BEGIN:VCALENDAR
VERSION:2.0
CALSCALE:GREGORIAN
PRODID:adamgibbons/ics
METHOD:PUBLISH
X-PUBLISHED-TTL:PT1H
BEGIN:VEVENT
UID:939@https://flypost.ie
SUMMARY:Gruama ft. HUTCH.IRL - Pink Moustache EP Launch
DTSTAMP:20260422T034235Z
DTSTART:20260425T180000Z
URL:https://flypost.ie/event/gruama-ft-hutchirl-pink-moustache-ep-launch
LOCATION:Pigment Space - Pigment Space\, 54a Sunnyside Street\, Belfast BT7
	 3EX
STATUS:CONFIRMED
CATEGORIES:Belfast,gruama,live music,pigment space
END:VEVENT
END:VCALENDAR
