BEGIN:VCALENDAR
VERSION:2.0
CALSCALE:GREGORIAN
PRODID:adamgibbons/ics
METHOD:PUBLISH
X-PUBLISHED-TTL:PT1H
BEGIN:VEVENT
UID:945@https://flypost.ie
SUMMARY:Pop-Up Party
DTSTAMP:20260422T065224Z
DTSTART:20260424T150000Z
DTEND:20260424T210000Z
URL:https://flypost.ie/event/pop-up-party
LOCATION:Native Coffee - Queens Quay\, Belfast\, BT3 9DA
STATUS:CONFIRMED
CATEGORIES:Belfast,dj,outdoor
END:VEVENT
END:VCALENDAR
