BEGIN:VCALENDAR
VERSION:2.0
CALSCALE:GREGORIAN
PRODID:adamgibbons/ics
METHOD:PUBLISH
X-PUBLISHED-TTL:PT1H
BEGIN:VEVENT
UID:944@https://flypost.ie
SUMMARY:Late Night Art
DTSTAMP:20260422T044042Z
DTSTART:20260507T160000Z
URL:https://flypost.ie/event/late-night-art-1
LOCATION:Belfast - Various Locations
STATUS:CONFIRMED
CATEGORIES:Belfast,art,festival,late night art
END:VEVENT
END:VCALENDAR
