BEGIN:VCALENDAR
VERSION:2.0
CALSCALE:GREGORIAN
PRODID:adamgibbons/ics
METHOD:PUBLISH
X-PUBLISHED-TTL:PT1H
BEGIN:VEVENT
UID:942@https://flypost.ie
SUMMARY:"Queer Community & Belonging In Belfast" Opening Night
DTSTAMP:20260422T062301Z
DTSTART:20260508T180000Z
DTEND:20260508T200000Z
URL:https://flypost.ie/event/queer-community-and-belonging-in-belfast-openi
	ng-night
LOCATION:Happy Day Arts - 2nd floor\, Conway Mill 5-7 Conway Street\, Belfa
	st\, BT13 2DE
STATUS:CONFIRMED
CATEGORIES:Belfast,Queer,art,conway mill,exhibition,queer belfast,zines
END:VEVENT
END:VCALENDAR
