BEGIN:VCALENDAR
VERSION:2.0
CALSCALE:GREGORIAN
PRODID:adamgibbons/ics
METHOD:PUBLISH
X-PUBLISHED-TTL:PT1H
BEGIN:VEVENT
UID:941@https://flypost.ie
SUMMARY:Inaekkum ft. Lord Jane
DTSTAMP:20260422T020842Z
DTSTART:20260430T190000Z
DESCRIPTION:"Very excited to be hosting this blast of K synth-rock from Ina
	ekkum at Ulster\nSports Club on Thursday 30 April.\n\nHosted by Belfast Ci
	ty of Music as part of this year’s Cathedral Quarter Arts\nFestival\, the 
	show is part of an ongoing UNESCO City of Music exchange between\nBelfast 
	and Daegu in South Korea\, following recent collaboration through the\n202
	5 Daegu Global Forum and last November’s visit from HOOLA and their upcycl
	ed\ninstrument project.Hailing from Daegu’s indie scene\, inaekkum are a f
	our-piece\nwhose sound draws from post-rock\, J-rock and Brit-pop\, pairin
	g shimmering synths\nwith an intimate\, uplifting pull.\n\nSupport comes f
	rom one of Belfast’s very best\, Lord Jane - previous CQAF bursary\nawarde
	es - which makes this one feel nicely full circle."\n\nA four-piece synth-
	rock band from Daegu\, South Korea. Known for their poetic\nlyrics and una
	dorned vocals\, they blend J-rock and Brit rock influences to\ncreate a co
	nfessional indie sound\, highlighted in their 2025 album Organic\nTender.\
	n\nHailing from the Daegu indie scene\, inaekkum is a four-piece collectiv
	e crafting\nthe soundtrack to a “pastel-coloured dream.”\n\nBlending the e
	xpansive textures of post-rock with the melodic sensibility of\nJ-rock and
	 Brit-pop\, their music explores the delicate balance between loss and\nre
	covery.\n\nKnown for their self-produced visuals and immersive live sounds
	capes\, inaekkum\ninvites listeners into a space where unadorned vocals me
	et shimmering synths.\nExperience the rising stars of the South Korean ind
	ie wave.
URL:https://flypost.ie/event/inaekkum-ft-lord-jane
LOCATION:Ulster Sports Club - Ulster Sports Club\, 96-98 High St\, Belfast\
	, BT1 2BG
STATUS:CONFIRMED
CATEGORIES:live music,Belfast,ulster sports club,synth rock
X-ALT-DESC;FMTTYPE=text/html:<p>"Very excited to be hosting this blast of K
	 synth-rock from Inaekkum at Ulster Sports Club on Thursday 30 April.<br><
	br>Hosted by Belfast City of Music as part of this year’s Cathedral Quarte
	r Arts Festival, the show is part of an ongoing UNESCO City of Music excha
	nge between Belfast and Daegu in South Korea, following recent collaborati
	on through the 2025 Daegu Global Forum and last November’s visit from HOOL
	A and their upcycled instrument project.Hailing from Daegu’s indie scene, 
	inaekkum are a four-piece whose sound draws from post-rock, J-rock and Bri
	t-pop, pairing shimmering synths with an intimate, uplifting pull.<br><br>
	Support comes from one of Belfast’s very best, Lord Jane - previous CQAF b
	ursary awardees - which makes this one feel nicely full circle."</p><p>A f
	our-piece synth-rock band from Daegu, South Korea. Known for their poetic 
	lyrics and unadorned vocals, they blend J-rock and Brit rock influences to
	 create a confessional indie sound, highlighted in their 2025 album Organi
	c Tender.</p><p>Hailing from the Daegu indie scene, <strong>inaekkum</stro
	ng> is a four-piece collective crafting the soundtrack to a “pastel-colour
	ed dream.”</p><p>Blending the expansive textures of post-rock with the mel
	odic sensibility of J-rock and Brit-pop, their music explores the delicate
	 balance between loss and recovery.</p><p>Known for their self-produced vi
	suals and immersive live soundscapes, inaekkum invites listeners into a sp
	ace where unadorned vocals meet shimmering synths. Experience the rising s
	tars of the South Korean indie wave.</p>
BEGIN:VALARM
ACTION:DISPLAY
DESCRIPTION:Inaekkum ft. Lord Jane
TRIGGER:-PT1H
END:VALARM
END:VEVENT
END:VCALENDAR
