BEGIN:VCALENDAR
VERSION:2.0
CALSCALE:GREGORIAN
PRODID:adamgibbons/ics
METHOD:PUBLISH
X-PUBLISHED-TTL:PT1H
BEGIN:VEVENT
UID:940@https://flypost.ie
SUMMARY:Hit The North Street Art Festival
DTSTAMP:20260422T022203Z
DTSTART:20260503T130000Z
DTEND:20260503T200000Z
DESCRIPTION:HIT THE NORTH IS A PHENOMENON. A GRASS ROOTS STREET ART FESTIVA
	L BASED IN A\nFORMALLY DERELICT AREA OF BELFAST WHICH\, HAS BEATIFIED HUND
	REDS OF WALLS IN\nBELFAST AND DEMONSTRATED THE TRANSFORMATIVE POWER OF CRE
	ATIVITY\,\nENTREPRENEURSHIP AND MOST OF ALL ART.\n\n\n\n"Established by @s
	eedheadarts [https://www.instagram.com/seedheadarts/]\, Hit The\nNorth is 
	Belfast’s biggest street art festival transforming the city’s visual\nland
	scape each year.\n\nThe festival brings artists from across Ireland\, the 
	UK and Europe to paint\nthroughout the week\, with a large-scale paint jam
	 on Union Street and Kent\nStreet.\n\nCrowds gather around the @sunflowerp
	ub [https://www.instagram.com/sunflowerpub/]\narea to watch the walls evol
	ve in real time.\n\nAlongside the painting\, the festival features talks a
	nd events across the\nweekend."
URL:https://flypost.ie/event/hit-the-north-street-art-festival
LOCATION:The Sunflower - Sunflower Public House\, 65 Union St\, Belfast BT1
	 2JG
STATUS:CONFIRMED
CATEGORIES:outdoor,Belfast,festival,street art
X-ALT-DESC;FMTTYPE=text/html:<h4>Hit the North is a phenomenon. A grass roo
	ts street art festival based in a formally derelict  area of Belfast which
	, has beatified hundreds of walls in Belfast and demonstrated the transfor
	mative power of creativity, entrepreneurship and most of all art.</h4><p><
	/p><p>"Established by <a href="https://www.instagram.com/seedheadarts/" ta
	rget="_blank">@seedheadarts</a>, Hit The North is Belfast’s biggest street
	 art festival transforming the city’s visual landscape each year. <br><br>
	The festival brings artists from across Ireland, the UK and Europe to pain
	t throughout the week, with a large-scale paint jam on Union Street and Ke
	nt Street. <br><br>Crowds gather around the <a href="https://www.instagram
	.com/sunflowerpub/" target="_blank">@sunflowerpub</a> area to watch the wa
	lls evolve in real time. <br><br>Alongside the painting, the festival feat
	ures talks and events across the weekend."</p>
BEGIN:VALARM
ACTION:DISPLAY
DESCRIPTION:Hit The North Street Art Festival
TRIGGER:-PT1H
END:VALARM
END:VEVENT
END:VCALENDAR
