BEGIN:VCALENDAR
VERSION:2.0
CALSCALE:GREGORIAN
PRODID:adamgibbons/ics
METHOD:PUBLISH
X-PUBLISHED-TTL:PT1H
BEGIN:VEVENT
UID:947@https://flypost.ie
SUMMARY:General Meeting
DTSTAMP:20260423T053323Z
DTSTART:20260527T180000Z
DTEND:20260527T193000Z
DESCRIPTION:General Meeting for ddr volunteers.
URL:https://flypost.ie/event/general-meeting-7
LOCATION:ddr studio - Flux - 4 Chatham Row in Dublin 2
STATUS:CONFIRMED
CATEGORIES:ddr
X-ALT-DESC;FMTTYPE=text/html:<p>General Meeting for ddr volunteers. </p>
BEGIN:VALARM
ACTION:DISPLAY
DESCRIPTION:General Meeting
TRIGGER:-PT1H
END:VALARM
END:VEVENT
END:VCALENDAR
