BEGIN:VCALENDAR
VERSION:2.0
CALSCALE:GREGORIAN
PRODID:adamgibbons/ics
METHOD:PUBLISH
X-PUBLISHED-TTL:PT1H
BEGIN:VEVENT
UID:937@https://flypost.ie
SUMMARY:Entanglement and Mint Tea Gathering
DTSTAMP:20260421T181459Z
DTSTART:20260527T170000Z
DTEND:20260527T190000Z
DESCRIPTION:Spaces for coming together\, reflecting\, and sharing without a
	n expected outcome\nare rare\, with the realisation that we are in a commu
	nity of practice and not\nworking alone.\n\nEntanglement and Mint Tea offe
	rs that space and time\, and some mint tea if you\nbring a cup.\n\nKindly 
	hosted by Pallas Projects\, 115–116 The Coombe\, The Liberties\, Dublin\, 
	D08\nA970\n\n🥬🥬\n\n𝗘𝗻𝘁𝗮𝗻𝗴𝗹𝗲𝗺𝗲𝗻𝘁 𝗮𝗻𝗱 𝗠𝗶𝗻𝘁 𝗧𝗲𝗮 is a monthly\, informal gathe
	ring\nfor artists and not\, emerging as a spin-off from Entangled Life at 
	Pallas\nProjects and curated by Cristina Nicotra.\n\nThe get-together etho
	s is grounded in an ecology understood as a complex web of\nhuman\, more-t
	han-human\, environmental\, social\, and political relations or\nentanglem
	ents.\n\nEach session begins with a selected question from the original pr
	ogramme. A\nwarm-up. The evening unfolds through relaxed\, open\, communal
	\, non-hierarchical\ndiscussion\, where participants can share ideas\, ref
	lections\, opinions and\nexperiences.\n\nAttentive listening\, responsibil
	ity\, critical thinking and care are encouraged.\n\nQuestion: Many institu
	tions now use sustainability as a branding tool. From your\nperspective\, 
	how can artists critically engage with these narratives without\nbeing abs
	orbed by them or silenced by dependency on institutional support?
URL:https://flypost.ie/event/entanglement-and-mint-tea-gathering-2
LOCATION:Pallas Projects/Studios - 115-116 The Coombe\, D08A970
STATUS:CONFIRMED
CATEGORIES:Dublin,community,visualart,ecology
X-ALT-DESC;FMTTYPE=text/html:<p>Spaces for coming together, reflecting, and
	 sharing without an expected outcome are rare, with the realisation that w
	e are in a community of practice and not working alone.<br><br>Entanglemen
	t and Mint Tea offers that space and time, and some mint tea if you bring 
	a cup.<br><br>Kindly hosted by Pallas Projects, 115–116 The Coombe, The Li
	berties, Dublin, D08 A970<br><br>🥬🥬<br><br>𝗘𝗻𝘁𝗮𝗻𝗴𝗹𝗲𝗺𝗲𝗻𝘁 𝗮𝗻𝗱 𝗠𝗶𝗻𝘁 𝗧𝗲𝗮 is a 
	monthly, informal gathering for artists and not, emerging as a spin-off fr
	om Entangled Life at Pallas Projects and curated by Cristina Nicotra.<br><
	br>The get-together ethos is grounded in an ecology understood as a comple
	x web of human, more-than-human, environmental, social, and political rela
	tions or entanglements.<br><br>Each session begins with a selected questio
	n from the original programme. A warm-up. The evening unfolds through rela
	xed, open, communal, non-hierarchical discussion, where participants can s
	hare ideas, reflections, opinions and experiences.<br><br>Attentive listen
	ing, responsibility, critical thinking and care are encouraged.</p><p>Ques
	tion: <strong>Many institutions now use sustainability as a branding tool.
	 From your perspective, how can artists critically engage with these narra
	tives without being absorbed by them or silenced by dependency on institut
	ional support?</strong></p>
BEGIN:VALARM
ACTION:DISPLAY
DESCRIPTION:Entanglement and Mint Tea Gathering
TRIGGER:-PT1H
END:VALARM
END:VEVENT
END:VCALENDAR
