BEGIN:VCALENDAR
VERSION:2.0
CALSCALE:GREGORIAN
PRODID:adamgibbons/ics
METHOD:PUBLISH
X-PUBLISHED-TTL:PT1H
BEGIN:VEVENT
UID:938@https://flypost.ie
SUMMARY:DOSE: pôt-pot / Senior Infants / Odd Ned
DTSTAMP:20260421T180417Z
DTSTART:20260523T190000Z
DTEND:20260524T013000Z
DESCRIPTION:pôt-pot return to Cork for a hometown headline show during thei
	r European tour\nthis May\, alongside Senior Infants\, Odd Ned and DOSE re
	sidents.\n\nSave the date\, hit interested - full announcement to come.
URL:https://flypost.ie/event/dose-pot-pot-senior-infants-odd-ned
LOCATION:The Kino - Washington Street\, Cork City\, T12 NY66
STATUS:CONFIRMED
CATEGORIES:Cork,live music,DOSE,krautrock,dub
X-ALT-DESC;FMTTYPE=text/html:<p>pôt-pot return to Cork for a hometown headl
	ine show during their European tour this May, alongside Senior Infants, Od
	d Ned and DOSE residents.</p><p>Save the date, hit interested - full annou
	ncement to come.</p>
BEGIN:VALARM
ACTION:DISPLAY
DESCRIPTION:DOSE: pôt-pot / Senior Infants / Odd Ned
TRIGGER:-PT1H
END:VALARM
END:VEVENT
END:VCALENDAR
